BEGIN:VCALENDAR
VERSION:2.0
PRODID:-//Zürichsee-Schifffahrtsgesellschaft AG//Your Product//EN
BEGIN:VEVENT
UID:69e8e8c9f166a@yourdomain.com
DTSTAMP:20260422T152705Z
DTSTART:20261008T190000Z
DTEND:20261008T214500Z
SUMMARY:Fondue-Chinoise-Schiff
DESCRIPTION:Join us for this exciting event.
LOCATION:Zürich Bürkliplatz
END:VEVENT
END:VCALENDAR
