BEGIN:VCALENDAR
VERSION:2.0
PRODID:-//Zürichsee-Schifffahrtsgesellschaft AG//Your Product//EN
BEGIN:VEVENT
UID:69e748c7b6ce2@yourdomain.com
DTSTAMP:20260421T095207Z
DTSTART:20260906T100500Z
DTEND:20260906T122500Z
SUMMARY:Brunch Cruise
DESCRIPTION:Join us for this exciting event.
LOCATION:Zürich Bürkliplatz
END:VEVENT
END:VCALENDAR
